BEGIN:VCALENDAR
VERSION:2.0
PRODID:-//Standpunkt.Schanze e.V. - ECPv6.15.20//NONSGML v1.0//EN
CALSCALE:GREGORIAN
METHOD:PUBLISH
X-WR-CALNAME:Standpunkt.Schanze e.V.
X-ORIGINAL-URL:https://www.standpunktschanze.de
X-WR-CALDESC:Veranstaltungen für Standpunkt.Schanze e.V.
REFRESH-INTERVAL;VALUE=DURATION:PT1H
X-Robots-Tag:noindex
X-PUBLISHED-TTL:PT1H
BEGIN:VTIMEZONE
TZID:Europe/Berlin
BEGIN:DAYLIGHT
TZOFFSETFROM:+0100
TZOFFSETTO:+0200
TZNAME:CEST
DTSTART:20250330T010000
END:DAYLIGHT
BEGIN:STANDARD
TZOFFSETFROM:+0200
TZOFFSETTO:+0100
TZNAME:CET
DTSTART:20251026T010000
END:STANDARD
BEGIN:DAYLIGHT
TZOFFSETFROM:+0100
TZOFFSETTO:+0200
TZNAME:CEST
DTSTART:20260329T010000
END:DAYLIGHT
BEGIN:STANDARD
TZOFFSETFROM:+0200
TZOFFSETTO:+0100
TZNAME:CET
DTSTART:20261025T010000
END:STANDARD
BEGIN:DAYLIGHT
TZOFFSETFROM:+0100
TZOFFSETTO:+0200
TZNAME:CEST
DTSTART:20270328T010000
END:DAYLIGHT
BEGIN:STANDARD
TZOFFSETFROM:+0200
TZOFFSETTO:+0100
TZNAME:CET
DTSTART:20271031T010000
END:STANDARD
END:VTIMEZONE
BEGIN:VEVENT
DTSTART;TZID=Europe/Berlin:20260422T193000
DTEND;TZID=Europe/Berlin:20260422T213000
DTSTAMP:20260422T022225
CREATED:20260415T214109Z
LAST-MODIFIED:20260420T193920Z
UID:6090-1776886200-1776893400@www.standpunktschanze.de
SUMMARY:Stadtteilbeirat Sternschanze
DESCRIPTION:Was: 134. Sitzung des Stadteillbeirats Sternschanze \nWo: JesusCenter (Schulterblatt 63) \nTagesordnung:\nTOP 01 Anmerkungen zum ProtokollTOP 02 Was bedeutet Olympia für die Schanze? (mit Gästen)TOP 03 Berichte\n• Eingabe zum Thema Müll im WKV Ausschuss\n• Termin für den nächsten Runden Tisch steht\n• Nachtbeauftragter ist beauftragt\n• Stellungnahme der BVM zu Temporegelungen auf dem Schulterblatt\n• Umfeldbeteiligung Sternbrücke\nTOP 04 Antrag an den Verfügungsfonds\nTOP 05 Anliegen von Gästen und Mitgliedern\n• Gedenkaktion für die Opfer des Faschismus von SC Sternschanze und Rosenhofstraße\n• Vorschlag zu den Tischtennisplatten im Sternschanzenpark\nTOP 06 Termine
URL:https://www.standpunktschanze.de/termin/stadtteilbeirat-sternschanze-61/
LOCATION:JesusCenter\, Schulterblatt 63\, Hamburg\, 20357
CATEGORIES:Beiratssitzungen
END:VEVENT
END:VCALENDAR