BEGIN:VCALENDAR
VERSION:2.0
PRODID:-//Standpunkt.Schanze e.V. - ECPv6.15.20//NONSGML v1.0//EN
CALSCALE:GREGORIAN
METHOD:PUBLISH
X-WR-CALNAME:Standpunkt.Schanze e.V.
X-ORIGINAL-URL:https://www.standpunktschanze.de
X-WR-CALDESC:Veranstaltungen für Standpunkt.Schanze e.V.
REFRESH-INTERVAL;VALUE=DURATION:PT1H
X-Robots-Tag:noindex
X-PUBLISHED-TTL:PT1H
BEGIN:VTIMEZONE
TZID:Europe/Berlin
BEGIN:DAYLIGHT
TZOFFSETFROM:+0100
TZOFFSETTO:+0200
TZNAME:CEST
DTSTART:20240331T010000
END:DAYLIGHT
BEGIN:STANDARD
TZOFFSETFROM:+0200
TZOFFSETTO:+0100
TZNAME:CET
DTSTART:20241027T010000
END:STANDARD
BEGIN:DAYLIGHT
TZOFFSETFROM:+0100
TZOFFSETTO:+0200
TZNAME:CEST
DTSTART:20250330T010000
END:DAYLIGHT
BEGIN:STANDARD
TZOFFSETFROM:+0200
TZOFFSETTO:+0100
TZNAME:CET
DTSTART:20251026T010000
END:STANDARD
BEGIN:DAYLIGHT
TZOFFSETFROM:+0100
TZOFFSETTO:+0200
TZNAME:CEST
DTSTART:20260329T010000
END:DAYLIGHT
BEGIN:STANDARD
TZOFFSETFROM:+0200
TZOFFSETTO:+0100
TZNAME:CET
DTSTART:20261025T010000
END:STANDARD
END:VTIMEZONE
BEGIN:VEVENT
DTSTART;TZID=Europe/Berlin:20250122T193000
DTEND;TZID=Europe/Berlin:20250122T213000
DTSTAMP:20260426T060626
CREATED:20241201T171505Z
LAST-MODIFIED:20250120T215303Z
UID:5675-1737574200-1737581400@www.standpunktschanze.de
SUMMARY:Stadtteilbeirat Sternschanze
DESCRIPTION:Was: 121. Sitzung des Stadteillbeirats Sternschanze \nWo: JesusCenter (Schulterblatt 63) \nTagesordnung:\nTOP 01 Anmerkungen zum Protokoll\nTOP 02 Berichte\n• Neubesetzung des Vereinsvorstands\n• November-Sitzung der Bezirksversammlung\n• Lärmgutachten öffentlich\n• Januar-Sitzung des Ausschusses für Wirtschaft\, Klima und Umwelt\n• Abgasuntersuchung beim Lokmam\n• Altona feiert 15 Jahre RISE\n• RISE Ausschuss\n• Beteiligungsformat zur Sternbrücke kommt\nTOP 03 Neues von der Schanzenbrücke (Zu Gast: VertreterInnen der DB)\nTOP 04 Anliegen von Gästen und Mitgliedern\n• weiterhin Überschreitung von Öffnungszeiten | Lärm in den\nHinterhöfen von Piazza und Susannenstraße\n• Details zum Lärmgutachten\n• Immobilienverkauf in der Schanzenstraße\nTOP 05 Antrag an den Verfügungsfonds\nTOP 06 Termine
URL:https://www.standpunktschanze.de/termin/stadtteilbeirat-sternschanze-48/
LOCATION:JesusCenter\, Schulterblatt 63\, Hamburg\, 20357
CATEGORIES:Beiratssitzungen
END:VEVENT
END:VCALENDAR