BEGIN:VCALENDAR
VERSION:2.0
PRODID:-//Standpunkt.Schanze e.V. - ECPv6.15.20//NONSGML v1.0//EN
CALSCALE:GREGORIAN
METHOD:PUBLISH
X-ORIGINAL-URL:https://www.standpunktschanze.de
X-WR-CALDESC:Veranstaltungen für Standpunkt.Schanze e.V.
REFRESH-INTERVAL;VALUE=DURATION:PT1H
X-Robots-Tag:noindex
X-PUBLISHED-TTL:PT1H
BEGIN:VTIMEZONE
TZID:Europe/Berlin
BEGIN:DAYLIGHT
TZOFFSETFROM:+0100
TZOFFSETTO:+0200
TZNAME:CEST
DTSTART:20240331T010000
END:DAYLIGHT
BEGIN:STANDARD
TZOFFSETFROM:+0200
TZOFFSETTO:+0100
TZNAME:CET
DTSTART:20241027T010000
END:STANDARD
BEGIN:DAYLIGHT
TZOFFSETFROM:+0100
TZOFFSETTO:+0200
TZNAME:CEST
DTSTART:20250330T010000
END:DAYLIGHT
BEGIN:STANDARD
TZOFFSETFROM:+0200
TZOFFSETTO:+0100
TZNAME:CET
DTSTART:20251026T010000
END:STANDARD
BEGIN:DAYLIGHT
TZOFFSETFROM:+0100
TZOFFSETTO:+0200
TZNAME:CEST
DTSTART:20260329T010000
END:DAYLIGHT
BEGIN:STANDARD
TZOFFSETFROM:+0200
TZOFFSETTO:+0100
TZNAME:CET
DTSTART:20261025T010000
END:STANDARD
END:VTIMEZONE
BEGIN:VEVENT
DTSTART;TZID=Europe/Berlin:20250326T193000
DTEND;TZID=Europe/Berlin:20250326T213000
DTSTAMP:20260426T025437
CREATED:20250324T213606Z
LAST-MODIFIED:20250324T213606Z
UID:5747-1743017400-1743024600@www.standpunktschanze.de
SUMMARY:Stadtteilbeirat Sternschanze
DESCRIPTION:Was: 123. Sitzung des Stadteillbeirats Sternschanze \nWo: JesusCenter (Schulterblatt 63) \nTagesordnung:\nTOP 01 Anmerkungen zum ProtokollTOP 02 Berichte\n– Thema Müll im WKV\n– Nachtbeauftragter St. Pauli im WKV\n– Richtig Beschweren (Flyer aus St. Pauli)\nTOP 03 Antrag an den VerfügungsfondsTOP 04 Empfehlung zur Genehmigungspraxis SondernutzungTOP 05 Empfehlung zu Auflagen für Sondernutzung (Lärmschutz)TOP 06 Beteiligungsformat für das Umfeld der Sternbrücke gestartetTOP 07 Anliegen von Gästen und MitgliedernTOP 08 Termine
URL:https://www.standpunktschanze.de/termin/stadtteilbeirat-sternschanze-50/
LOCATION:JesusCenter\, Schulterblatt 63\, Hamburg\, 20357
CATEGORIES:Beiratssitzungen
END:VEVENT
END:VCALENDAR