BEGIN:VCALENDAR
VERSION:2.0
PRODID:-//Standpunkt.Schanze e.V. - ECPv6.15.20//NONSGML v1.0//EN
CALSCALE:GREGORIAN
METHOD:PUBLISH
X-ORIGINAL-URL:https://www.standpunktschanze.de
X-WR-CALDESC:Veranstaltungen für Standpunkt.Schanze e.V.
REFRESH-INTERVAL;VALUE=DURATION:PT1H
X-Robots-Tag:noindex
X-PUBLISHED-TTL:PT1H
BEGIN:VTIMEZONE
TZID:Europe/Berlin
BEGIN:DAYLIGHT
TZOFFSETFROM:+0100
TZOFFSETTO:+0200
TZNAME:CEST
DTSTART:20240331T010000
END:DAYLIGHT
BEGIN:STANDARD
TZOFFSETFROM:+0200
TZOFFSETTO:+0100
TZNAME:CET
DTSTART:20241027T010000
END:STANDARD
BEGIN:DAYLIGHT
TZOFFSETFROM:+0100
TZOFFSETTO:+0200
TZNAME:CEST
DTSTART:20250330T010000
END:DAYLIGHT
BEGIN:STANDARD
TZOFFSETFROM:+0200
TZOFFSETTO:+0100
TZNAME:CET
DTSTART:20251026T010000
END:STANDARD
BEGIN:DAYLIGHT
TZOFFSETFROM:+0100
TZOFFSETTO:+0200
TZNAME:CEST
DTSTART:20260329T010000
END:DAYLIGHT
BEGIN:STANDARD
TZOFFSETFROM:+0200
TZOFFSETTO:+0100
TZNAME:CET
DTSTART:20261025T010000
END:STANDARD
END:VTIMEZONE
BEGIN:VEVENT
DTSTART;TZID=Europe/Berlin:20250723T193000
DTEND;TZID=Europe/Berlin:20250723T213000
DTSTAMP:20260425T200815
CREATED:20250720T123205Z
LAST-MODIFIED:20250721T113104Z
UID:5845-1753299000-1753306200@www.standpunktschanze.de
SUMMARY:Stadtteilbeirat Sternschanze
DESCRIPTION:Was: 127. Sitzung des Stadteillbeirats Sternschanze \nWo: JesusCenter (Schulterblatt 63) \nTagesordnung:\nTOP 01 Anmerkungen zum Protokoll\nTOP 02 Berichte\n• Aktueller Sachstand E-Scooter\n• Aktuelle Entwicklungen FloraBunker\n• Schanzenzelt\n• Sondernutzungsgenehmigungen Außengastro zweijährig\n• Notfallpraxis Stresemannstraße\nTOP 03 Anliegen von Gästen und Mitgliedern\nTOP 04 Termine
URL:https://www.standpunktschanze.de/termin/stadtteilbeirat-sternschanze-54/
LOCATION:JesusCenter\, Schulterblatt 63\, Hamburg\, 20357
CATEGORIES:Beiratssitzungen
END:VEVENT
END:VCALENDAR